BEGIN:VCALENDAR
VERSION:2.0
PRODID:-//Collier Business Academy for Financial Literacy - ECPv6.15.17.1//NONSGML v1.0//EN
CALSCALE:GREGORIAN
METHOD:PUBLISH
X-WR-CALNAME:Collier Business Academy for Financial Literacy
X-ORIGINAL-URL:https://coes.littletonaz.org
X-WR-CALDESC:Events for Collier Business Academy for Financial Literacy
REFRESH-INTERVAL;VALUE=DURATION:PT1H
X-Robots-Tag:noindex
X-PUBLISHED-TTL:PT1H
BEGIN:VTIMEZONE
TZID:America/Phoenix
BEGIN:STANDARD
TZOFFSETFROM:-0700
TZOFFSETTO:-0700
TZNAME:MST
DTSTART:20240101T000000
END:STANDARD
END:VTIMEZONE
BEGIN:VEVENT
DTSTART;TZID=America/Phoenix:20250610T180000
DTEND;TZID=America/Phoenix:20250610T200000
DTSTAMP:20260425T192130
CREATED:20250320T193003Z
LAST-MODIFIED:20250605T225102Z
UID:10000239-1749578400-1749585600@coes.littletonaz.org
SUMMARY:Governing Board Meeting
DESCRIPTION:Live Stream on YouTube
URL:https://coes.littletonaz.org/calendar-event/governing-board-meeting-23
END:VEVENT
BEGIN:VEVENT
DTSTART;VALUE=DATE:20250619
DTEND;VALUE=DATE:20250620
DTSTAMP:20260425T192130
CREATED:20250605T225247Z
LAST-MODIFIED:20250605T225247Z
UID:10000346-1750291200-1750377599@coes.littletonaz.org
SUMMARY:Juneteenth Federal Holiday - Offices Closed
DESCRIPTION:
URL:https://coes.littletonaz.org/calendar-event/juneteenth-federal-holiday-offices-closed
END:VEVENT
END:VCALENDAR