BEGIN:VCALENDAR
VERSION:2.0
PRODID:-//Collier Business Academy for Financial Literacy - ECPv6.15.17.1//NONSGML v1.0//EN
CALSCALE:GREGORIAN
METHOD:PUBLISH
X-WR-CALNAME:Collier Business Academy for Financial Literacy
X-ORIGINAL-URL:https://coes.littletonaz.org
X-WR-CALDESC:Events for Collier Business Academy for Financial Literacy
REFRESH-INTERVAL;VALUE=DURATION:PT1H
X-Robots-Tag:noindex
X-PUBLISHED-TTL:PT1H
BEGIN:VTIMEZONE
TZID:America/Phoenix
BEGIN:STANDARD
TZOFFSETFROM:-0700
TZOFFSETTO:-0700
TZNAME:MST
DTSTART:20240101T000000
END:STANDARD
END:VTIMEZONE
BEGIN:VEVENT
DTSTART;VALUE=DATE:20250204
DTEND;VALUE=DATE:20250205
DTSTAMP:20260423T093805
CREATED:20250204T235646Z
LAST-MODIFIED:20250204T235646Z
UID:10000207-1738627200-1738713599@coes.littletonaz.org
SUMMARY:Spring Picture Day
DESCRIPTION:
URL:https://coes.littletonaz.org/calendar-event/spring-picture-day
END:VEVENT
BEGIN:VEVENT
DTSTART;TZID=America/Phoenix:20250211T110000
DTEND;TZID=America/Phoenix:20250211T110000
DTSTAMP:20260423T093805
CREATED:20250204T235751Z
LAST-MODIFIED:20250204T235751Z
UID:10000208-1739271600-1739271600@coes.littletonaz.org
SUMMARY:Coffee with the Principal
DESCRIPTION:
URL:https://coes.littletonaz.org/calendar-event/coffee-with-the-principal
LOCATION:Business Hub
END:VEVENT
BEGIN:VEVENT
DTSTART;VALUE=DATE:20250214
DTEND;VALUE=DATE:20250215
DTSTAMP:20260423T093805
CREATED:20250204T235854Z
LAST-MODIFIED:20250204T235943Z
UID:10000209-1739491200-1739577599@coes.littletonaz.org
SUMMARY:PTSA Candy Grams Day - Campus Wide
DESCRIPTION:
URL:https://coes.littletonaz.org/calendar-event/ptsa-candy-grams-day-campus-wide
END:VEVENT
BEGIN:VEVENT
DTSTART;TZID=America/Phoenix:20250227T170000
DTEND;TZID=America/Phoenix:20250227T190000
DTSTAMP:20260423T093805
CREATED:20250218T160325Z
LAST-MODIFIED:20250218T160325Z
UID:10000211-1740675600-1740682800@coes.littletonaz.org
SUMMARY:Homebuying 101 Workshop - Biz Hub
DESCRIPTION:
URL:https://coes.littletonaz.org/calendar-event/homebuying-101-workshop-biz-hub
END:VEVENT
BEGIN:VEVENT
DTSTART;VALUE=DATE:20250228
DTEND;VALUE=DATE:20250301
DTSTAMP:20260423T093805
CREATED:20250205T000029Z
LAST-MODIFIED:20250205T000029Z
UID:10000210-1740700800-1740787199@coes.littletonaz.org
SUMMARY:$1 Dress Down Day
DESCRIPTION:
URL:https://coes.littletonaz.org/calendar-event/1-dress-down-day-2
END:VEVENT
END:VCALENDAR