BEGIN:VCALENDAR
VERSION:2.0
PRODID:-//Collier Business Academy for Financial Literacy - ECPv6.15.17.1//NONSGML v1.0//EN
CALSCALE:GREGORIAN
METHOD:PUBLISH
X-ORIGINAL-URL:https://coes.littletonaz.org
X-WR-CALDESC:Events for Collier Business Academy for Financial Literacy
REFRESH-INTERVAL;VALUE=DURATION:PT1H
X-Robots-Tag:noindex
X-PUBLISHED-TTL:PT1H
BEGIN:VTIMEZONE
TZID:America/Phoenix
BEGIN:STANDARD
TZOFFSETFROM:-0700
TZOFFSETTO:-0700
TZNAME:MST
DTSTART:20230101T000000
END:STANDARD
END:VTIMEZONE
BEGIN:VEVENT
DTSTART;VALUE=DATE:20240401
DTEND;VALUE=DATE:20240402
DTSTAMP:20260423T074719
CREATED:20230523T014737Z
LAST-MODIFIED:20230523T014737Z
UID:10000118-1711929600-1712015999@coes.littletonaz.org
SUMMARY:Spring Recess - No School
DESCRIPTION:
URL:https://coes.littletonaz.org/calendar-event/spring-recess-no-school
END:VEVENT
BEGIN:VEVENT
DTSTART;VALUE=DATE:20240403
DTEND;VALUE=DATE:20240404
DTSTAMP:20260423T074719
CREATED:20230523T014737Z
LAST-MODIFIED:20230523T014737Z
UID:10000119-1712102400-1712188799@coes.littletonaz.org
SUMMARY:Early Release for Students
DESCRIPTION:
URL:https://coes.littletonaz.org/calendar-event/early-release-for-students-33
END:VEVENT
BEGIN:VEVENT
DTSTART;TZID=America/Phoenix:20240404T153500
DTEND;TZID=America/Phoenix:20240404T153500
DTSTAMP:20260423T074719
CREATED:20240403T000351Z
LAST-MODIFIED:20240403T000351Z
UID:10000166-1712244900-1712244900@coes.littletonaz.org
SUMMARY:NJHS Meeting
DESCRIPTION:
URL:https://coes.littletonaz.org/calendar-event/njhs-meeting
LOCATION:Room 320
END:VEVENT
BEGIN:VEVENT
DTSTART;TZID=America/Phoenix:20240404T173000
DTEND;TZID=America/Phoenix:20240404T173000
DTSTAMP:20260423T074719
CREATED:20240403T000208Z
LAST-MODIFIED:20240403T000208Z
UID:10000165-1712251800-1712251800@coes.littletonaz.org
SUMMARY:8th Grade Promotion Parent Meeting
DESCRIPTION:
URL:https://coes.littletonaz.org/calendar-event/8th-grade-promotion-parent-meeting
LOCATION:Cafetorium
END:VEVENT
BEGIN:VEVENT
DTSTART;TZID=America/Phoenix:20240405T090000
DTEND;TZID=America/Phoenix:20240405T130000
DTSTAMP:20260423T074719
CREATED:20240403T000436Z
LAST-MODIFIED:20240403T000436Z
UID:10000167-1712307600-1712322000@coes.littletonaz.org
SUMMARY:7th Grade Field Trip
DESCRIPTION:
URL:https://coes.littletonaz.org/calendar-event/7th-grade-field-trip
LOCATION:Harkins Theater
END:VEVENT
BEGIN:VEVENT
DTSTART;TZID=America/Phoenix:20240409T180000
DTEND;TZID=America/Phoenix:20240409T180000
DTSTAMP:20260423T074719
CREATED:20230715T003603Z
LAST-MODIFIED:20230715T003603Z
UID:10000148-1712685600-1712685600@coes.littletonaz.org
SUMMARY:Governing Board Meeting
DESCRIPTION:
URL:https://coes.littletonaz.org/calendar-event/governing-board-meeting-16
END:VEVENT
BEGIN:VEVENT
DTSTART;VALUE=DATE:20240410
DTEND;VALUE=DATE:20240411
DTSTAMP:20260423T074719
CREATED:20230523T014937Z
LAST-MODIFIED:20230523T014937Z
UID:10000120-1712707200-1712793599@coes.littletonaz.org
SUMMARY:Early Release for Students
DESCRIPTION:
URL:https://coes.littletonaz.org/calendar-event/early-release-for-students-34
END:VEVENT
BEGIN:VEVENT
DTSTART;TZID=America/Phoenix:20240410T073000
DTEND;TZID=America/Phoenix:20240410T140000
DTSTAMP:20260423T074719
CREATED:20230715T003604Z
LAST-MODIFIED:20230715T003604Z
UID:10000149-1712734200-1712757600@coes.littletonaz.org
SUMMARY:Child Find Screenings
DESCRIPTION:
URL:https://coes.littletonaz.org/calendar-event/child-find-screenings-8
END:VEVENT
BEGIN:VEVENT
DTSTART;VALUE=DATE:20240417
DTEND;VALUE=DATE:20240418
DTSTAMP:20260423T074719
CREATED:20230523T014938Z
LAST-MODIFIED:20230523T014938Z
UID:10000121-1713312000-1713398399@coes.littletonaz.org
SUMMARY:Early Release for Students
DESCRIPTION:
URL:https://coes.littletonaz.org/calendar-event/early-release-for-students-35
END:VEVENT
BEGIN:VEVENT
DTSTART;TZID=America/Phoenix:20240418T153500
DTEND;TZID=America/Phoenix:20240418T153500
DTSTAMP:20260423T074719
CREATED:20240403T000521Z
LAST-MODIFIED:20240403T000521Z
UID:10000168-1713454500-1713454500@coes.littletonaz.org
SUMMARY:NJHS Meeting
DESCRIPTION:
URL:https://coes.littletonaz.org/calendar-event/njhs-meeting-2
LOCATION:Room 320
END:VEVENT
BEGIN:VEVENT
DTSTART;TZID=America/Phoenix:20240422T153000
DTEND;TZID=America/Phoenix:20240422T153000
DTSTAMP:20260423T074719
CREATED:20240403T000555Z
LAST-MODIFIED:20240403T000555Z
UID:10000169-1713799800-1713799800@coes.littletonaz.org
SUMMARY:PTSA Board Meeting
DESCRIPTION:
URL:https://coes.littletonaz.org/calendar-event/ptsa-board-meeting
LOCATION:Room 326
END:VEVENT
BEGIN:VEVENT
DTSTART;TZID=America/Phoenix:20240423T180000
DTEND;TZID=America/Phoenix:20240423T180000
DTSTAMP:20260423T074719
CREATED:20230715T003605Z
LAST-MODIFIED:20230715T003605Z
UID:10000150-1713895200-1713895200@coes.littletonaz.org
SUMMARY:Governing Board Meeting
DESCRIPTION:
URL:https://coes.littletonaz.org/calendar-event/governing-board-meeting-17
END:VEVENT
BEGIN:VEVENT
DTSTART;VALUE=DATE:20240424
DTEND;VALUE=DATE:20240425
DTSTAMP:20260423T074719
CREATED:20230523T014938Z
LAST-MODIFIED:20230523T014938Z
UID:10000122-1713916800-1714003199@coes.littletonaz.org
SUMMARY:Early Release for Students
DESCRIPTION:
URL:https://coes.littletonaz.org/calendar-event/early-release-for-students-36
END:VEVENT
BEGIN:VEVENT
DTSTART;VALUE=DATE:20240426
DTEND;VALUE=DATE:20240427
DTSTAMP:20260423T074719
CREATED:20240403T000659Z
LAST-MODIFIED:20240403T000659Z
UID:10000171-1714089600-1714175999@coes.littletonaz.org
SUMMARY:$1.00 Dress Down Day for PTSA
DESCRIPTION:
URL:https://coes.littletonaz.org/calendar-event/1-00-dress-down-day-for-ptsa
END:VEVENT
BEGIN:VEVENT
DTSTART;TZID=America/Phoenix:20240426T090000
DTEND;TZID=America/Phoenix:20240426T130000
DTSTAMP:20260423T074719
CREATED:20240403T000633Z
LAST-MODIFIED:20240403T000633Z
UID:10000170-1714122000-1714136400@coes.littletonaz.org
SUMMARY:Kinder Field Trip
DESCRIPTION:
URL:https://coes.littletonaz.org/calendar-event/kinder-field-trip
LOCATION:Wildlife Zoo
END:VEVENT
END:VCALENDAR