BEGIN:VCALENDAR
VERSION:2.0
PRODID:-//Collier Business Academy for Financial Literacy - ECPv6.15.17.1//NONSGML v1.0//EN
CALSCALE:GREGORIAN
METHOD:PUBLISH
X-WR-CALNAME:Collier Business Academy for Financial Literacy
X-ORIGINAL-URL:https://coes.littletonaz.org
X-WR-CALDESC:Events for Collier Business Academy for Financial Literacy
REFRESH-INTERVAL;VALUE=DURATION:PT1H
X-Robots-Tag:noindex
X-PUBLISHED-TTL:PT1H
BEGIN:VTIMEZONE
TZID:America/Phoenix
BEGIN:STANDARD
TZOFFSETFROM:-0700
TZOFFSETTO:-0700
TZNAME:MST
DTSTART:20250101T000000
END:STANDARD
END:VTIMEZONE
BEGIN:VEVENT
DTSTART;VALUE=DATE:20260423
DTEND;VALUE=DATE:20260424
DTSTAMP:20260425T073328
CREATED:20260227T181131Z
LAST-MODIFIED:20260227T181131Z
UID:10000506-1776902400-1776988799@coes.littletonaz.org
SUMMARY:Peter Piper Night
DESCRIPTION:
URL:https://coes.littletonaz.org/calendar-event/peter-piper-night
END:VEVENT
BEGIN:VEVENT
DTSTART;TZID=America/Phoenix:20260423T170000
DTEND;TZID=America/Phoenix:20260423T190000
DTSTAMP:20260425T073328
CREATED:20260331T214759Z
LAST-MODIFIED:20260331T214759Z
UID:10000513-1776963600-1776970800@coes.littletonaz.org
SUMMARY:Spring Dance
DESCRIPTION:
URL:https://coes.littletonaz.org/calendar-event/spring-dance-2
LOCATION:Cafeteria
END:VEVENT
END:VCALENDAR