BEGIN:VCALENDAR
VERSION:2.0
PRODID:-//Collier Business Academy for Financial Literacy - ECPv6.15.17.1//NONSGML v1.0//EN
CALSCALE:GREGORIAN
METHOD:PUBLISH
X-WR-CALNAME:Collier Business Academy for Financial Literacy
X-ORIGINAL-URL:https://coes.littletonaz.org
X-WR-CALDESC:Events for Collier Business Academy for Financial Literacy
REFRESH-INTERVAL;VALUE=DURATION:PT1H
X-Robots-Tag:noindex
X-PUBLISHED-TTL:PT1H
BEGIN:VTIMEZONE
TZID:America/Phoenix
BEGIN:STANDARD
TZOFFSETFROM:-0700
TZOFFSETTO:-0700
TZNAME:MST
DTSTART:20220101T000000
END:STANDARD
END:VTIMEZONE
BEGIN:VEVENT
DTSTART;VALUE=DATE:20230516
DTEND;VALUE=DATE:20230520
DTSTAMP:20260425T073355
CREATED:20230519T152121Z
LAST-MODIFIED:20230519T155423Z
UID:10000053-1684195200-1684540799@coes.littletonaz.org
SUMMARY:8th Grade Dress Down Days
DESCRIPTION:
URL:https://coes.littletonaz.org/calendar-event/8th-grade-dress-down-days
END:VEVENT
BEGIN:VEVENT
DTSTART;VALUE=DATE:20230519
DTEND;VALUE=DATE:20230520
DTSTAMP:20260425T073355
CREATED:20230519T152136Z
LAST-MODIFIED:20230519T155625Z
UID:10000058-1684454400-1684540799@coes.littletonaz.org
SUMMARY:Mr. Barry's Class Olympics
DESCRIPTION:
URL:https://coes.littletonaz.org/calendar-event/mr-barrys-class-olympics
END:VEVENT
END:VCALENDAR