BEGIN:VCALENDAR
VERSION:2.0
PRODID:-//Collier Business Academy for Financial Literacy - ECPv6.15.17.1//NONSGML v1.0//EN
CALSCALE:GREGORIAN
METHOD:PUBLISH
X-ORIGINAL-URL:https://coes.littletonaz.org
X-WR-CALDESC:Events for Collier Business Academy for Financial Literacy
REFRESH-INTERVAL;VALUE=DURATION:PT1H
X-Robots-Tag:noindex
X-PUBLISHED-TTL:PT1H
BEGIN:VTIMEZONE
TZID:America/Phoenix
BEGIN:STANDARD
TZOFFSETFROM:-0700
TZOFFSETTO:-0700
TZNAME:MST
DTSTART:20220101T000000
END:STANDARD
END:VTIMEZONE
BEGIN:VEVENT
DTSTART;VALUE=DATE:20230515
DTEND;VALUE=DATE:20230516
DTSTAMP:20260424T071357
CREATED:20230519T152106Z
LAST-MODIFIED:20230519T155349Z
UID:10000050-1684108800-1684195199@coes.littletonaz.org
SUMMARY:8th Grade Waffle Breakfast
DESCRIPTION:
URL:https://coes.littletonaz.org/calendar-event/8th-grade-waffle-breakfast
END:VEVENT
BEGIN:VEVENT
DTSTART;VALUE=DATE:20230515
DTEND;VALUE=DATE:20230516
DTSTAMP:20260424T071357
CREATED:20230519T152121Z
LAST-MODIFIED:20230519T155333Z
UID:10000051-1684108800-1684195199@coes.littletonaz.org
SUMMARY:Sports Championship Games
DESCRIPTION:
URL:https://coes.littletonaz.org/calendar-event/sports-championship-games
END:VEVENT
BEGIN:VEVENT
DTSTART;TZID=America/Phoenix:20230515T081500
DTEND;TZID=America/Phoenix:20230515T081500
DTSTAMP:20260424T071357
CREATED:20230519T152121Z
LAST-MODIFIED:20230519T152121Z
UID:10000052-1684138500-1684138500@coes.littletonaz.org
SUMMARY:8th Grade Award Ceremony
DESCRIPTION:
URL:https://coes.littletonaz.org/calendar-event/8th-grade-award-ceremony
END:VEVENT
END:VCALENDAR